BEGIN:VCALENDAR
VERSION:2.0
PRODID:-//hacksw/handcal//NONSGML v1.0//EN
BEGIN:VEVENT
SUMMARY:Stage - Avril 2026
UID:25fe38f9-41f5-44d0-bb88-eca6299b1089
DTSTART:20260423T114500Z
DTEND:20260423T153000Z
LOCATION:Localisation   
CATEGORIES:Sportif
STATUS:
URL;VALUE=URI:https://ap-aulnaysiens.sportsregions.fr/evenements/2026/04/23/stage-avril-2026-2435895
END:VEVENT
END:VCALENDAR
